BEGIN:VCALENDAR
VERSION:2.0
PRODID:-//chikkutakku.com//RDFCal 1.0//EN
X-WR-CALDESC:GoogleカレンダーやiCalendar形式情報を共有シェ
 アしましょう。近所のイベントから全国のイベントま
 で今日のイベント検索やスケジュールを決めるならち
 っくたっく
X-WR-CALNAME:ちっくたっく
X-WR-TIMEZONE:UTC
BEGIN:VEVENT
SUMMARY:หารือตัวชี้วัด CMU EdPEx ตามผ
 ลการดำเนินงานของส่วนงาน (CMU
  PA) ก่อนพบรองฯ อุษณีย์
DTSTART;VALUE=DATE-TIME:20260422T013000Z
DTEND;VALUE=DATE-TIME:20260422T020000Z
UID:125395492179
DESCRIPTION:ผช.ผอ.กองแผนงาน (เอษณา)\n
 ณัฐธาวัลย์\nธนาภรณ์\nน้องแอ
 ม (เด็กปั้น)
LOCATION:ห้องประชุมกองแผนงาน ชั
 ้น 4 อาคารสำนักงานมหาวิทยา
 ลัย 2
END:VEVENT
END:VCALENDAR
