BEGIN:VCALENDAR
VERSION:2.0
PRODID:-//chikkutakku.com//RDFCal 1.0//EN
X-WR-CALDESC:GoogleカレンダーやiCalendar形式情報を共有シェ
 アしましょう。近所のイベントから全国のイベントま
 で今日のイベント検索やスケジュールを決めるならち
 っくたっく
X-WR-CALNAME:ちっくたっく
X-WR-TIMEZONE:UTC
BEGIN:VEVENT
SUMMARY:AWS体験ステップブック　既存構成から始めるサー
 バーレス化！
DTSTART;VALUE=DATE:20260423
DTEND;VALUE=DATE:20260424
UID:125583301740
DESCRIPTION:2026-04-24AWS体験ステップブック　既存構成から
 始めるサーバーレス化！窓川 ほしきインプレス NextPubli
 shing
LOCATION:
END:VEVENT
END:VCALENDAR
