BEGIN:VCALENDAR
VERSION:2.0
PRODID:-//chikkutakku.com//RDFCal 1.0//EN
X-WR-CALDESC:GoogleカレンダーやiCalendar形式情報を共有シェ
 アしましょう。近所のイベントから全国のイベントま
 で今日のイベント検索やスケジュールを決めるならち
 っくたっく
X-WR-CALNAME:ちっくたっく
X-WR-TIMEZONE:UTC
BEGIN:VEVENT
SUMMARY:ViVi (ヴィヴィ) 2026年7・8月合併号 増刊 [雑誌] 表
 紙：JI-DF ver. 與那城奨、白岩瑠姫、河野純喜（JO1）、後
 藤威尊、佐野雄大、池崎理人（INI）付録：JI BLUE フォト
 アルバム
DTSTART;VALUE=DATE:20260521
DTEND;VALUE=DATE:20260522
UID:125769749289
DESCRIPTION:2026-05-22ViVi (ヴィヴィ) 2026年7・8月合併号 増刊 
 [雑誌] 表紙：JI-DF ver. 與那城奨、白岩瑠姫、河野純喜（
 JO1）、後藤威尊、佐野雄大、池崎理人（INI）付録：JI BL
 UE フォトアルバム講談社
LOCATION:
END:VEVENT
END:VCALENDAR
