BEGIN:VCALENDAR
VERSION:2.0
PRODID:-//chikkutakku.com//RDFCal 1.0//EN
X-WR-CALDESC:GoogleカレンダーやiCalendar形式情報を共有シェ
 アしましょう。近所のイベントから全国のイベントま
 で今日のイベント検索やスケジュールを決めるならち
 っくたっく
X-WR-CALNAME:ちっくたっく
X-WR-TIMEZONE:UTC
BEGIN:VEVENT
SUMMARY:(職高三)包高中儀式
DTSTART;VALUE=DATE-TIME:20260422T061000Z
DTEND;VALUE=DATE-TIME:20260422T070000Z
UID:126716114367
DESCRIPTION:(職高三)包高中儀式
LOCATION:
END:VEVENT
END:VCALENDAR
