BEGIN:VCALENDAR
VERSION:2.0
PRODID:-//chikkutakku.com//RDFCal 1.0//EN
X-WR-CALDESC:GoogleカレンダーやiCalendar形式情報を共有シェ
 アしましょう。近所のイベントから全国のイベントま
 で今日のイベント検索やスケジュールを決めるならち
 っくたっく
X-WR-CALNAME:ちっくたっく
X-WR-TIMEZONE:UTC
BEGIN:VEVENT
SUMMARY:Prospect Lions Steak & Shrimp Dinner
DTSTART;VALUE=DATE-TIME:20260424T213000Z
DTEND;VALUE=DATE-TIME:20260425T003000Z
UID:126832988991
DESCRIPTION:Come join us for STEAK &amp\; SHRIMP!!Your choice of a New Yor
 k strip steak\, boiled shrimp\, or a combo of both. Includes bake beans\, 
 parsley potatoes\, salad\, dinner roll\, and coffee. Other beverages and d
 eserts available.Kids Hot Dog Meal Available ($5.00)
LOCATION:Veterans of Foreign Wars Post\, 17980 Beloit Rd\, New Berlin\, WI
  53146\, USA
END:VEVENT
END:VCALENDAR
