BEGIN:VCALENDAR
VERSION:2.0
PRODID:-//chikkutakku.com//RDFCal 1.0//EN
X-WR-CALDESC:GoogleカレンダーやiCalendar形式情報を共有シェ
 アしましょう。近所のイベントから全国のイベントま
 で今日のイベント検索やスケジュールを決めるならち
 っくたっく
X-WR-CALNAME:ちっくたっく
X-WR-TIMEZONE:UTC
BEGIN:VEVENT
SUMMARY:ประชุมกรรมการโอนเปลี่ย
 นแปลงรายการงบประมาณรายจ่
 ายประจำปี 2569 ครั้งที่ 6/2569
DTSTART;VALUE=DATE-TIME:20260423T063000Z
DTEND;VALUE=DATE-TIME:20260423T093000Z
UID:128143010023
DESCRIPTION:通过 Google Meet 加入：https://meet.google.com/pbk-gwrh-u
 ak\n或者拨打以下号码：(TH) +66 2 844 9331 PIN 码： 764016531067
 2#\n更多电话号码: https://tel.meet/pbk-gwrh-uak?pin=7640165310672&hs
 =7\n\n如需详细了解 Google Meet，请访问：https://support.google.
 com/a/users/answer/9282720
LOCATION:ห้องประชุม 2
END:VEVENT
END:VCALENDAR
