BEGIN:VCALENDAR
VERSION:2.0
PRODID:-//chikkutakku.com//RDFCal 1.0//EN
X-WR-CALDESC:GoogleカレンダーやiCalendar形式情報を共有シェ
 アしましょう。近所のイベントから全国のイベントま
 で今日のイベント検索やスケジュールを決めるならち
 っくたっく
X-WR-CALNAME:ちっくたっく
X-WR-TIMEZONE:UTC
BEGIN:VEVENT
SUMMARY:Julian Calendar: Ven. Nilus\, Abbot of Sora (+1508\, Repose)
DTSTART;VALUE=DATE-TIME:20260520T070000Z
DTEND;VALUE=DATE-TIME:20260521T070000Z
UID:128152750143
DESCRIPTION:Altar Feast for St. Nilus Skete\, Nun's Island\, Alaska
LOCATION:
END:VEVENT
END:VCALENDAR
