BEGIN:VCALENDAR
VERSION:2.0
PRODID:-//chikkutakku.com//RDFCal 1.0//EN
X-WR-CALDESC:GoogleカレンダーやiCalendar形式情報を共有シェ
 アしましょう。近所のイベントから全国のイベントま
 で今日のイベント検索やスケジュールを決めるならち
 っくたっく
X-WR-CALNAME:ちっくたっく
X-WR-TIMEZONE:UTC
BEGIN:VEVENT
SUMMARY:南九青連協：役員会
DTSTART;VALUE=DATE-TIME:20260522T050000Z
DTEND;VALUE=DATE-TIME:20260522T100000Z
UID:128341126100
DESCRIPTION:南九青連協：役員会
LOCATION:熊本大同生命ビル\, 日本、〒860-0802 熊本県熊本
 市中央区中央街３ 熊本大同生命ビル
END:VEVENT
END:VCALENDAR
