BEGIN:VCALENDAR
VERSION:2.0
PRODID:-//chikkutakku.com//RDFCal 1.0//EN
X-WR-CALDESC:GoogleカレンダーやiCalendar形式情報を共有シェ
 アしましょう。近所のイベントから全国のイベントま
 で今日のイベント検索やスケジュールを決めるならち
 っくたっく
X-WR-CALNAME:ちっくたっく
X-WR-TIMEZONE:UTC
BEGIN:VEVENT
SUMMARY:仮)すなめぐ会議
DTSTART;VALUE=DATE-TIME:20260430T093000Z
DTEND;VALUE=DATE-TIME:20260430T130000Z
UID:128486087858
DESCRIPTION:▼申込内容\n予約日時: 2026/04/09 18:26:50\nお名前
 　: 上原晴太郎(すなめぐ)\n予約日　: 2026/04/30(木)\n予約
 時間: 18:30～22:00
LOCATION:
END:VEVENT
END:VCALENDAR
