BEGIN:VCALENDAR
VERSION:2.0
PRODID:-//chikkutakku.com//RDFCal 1.0//EN
X-WR-CALDESC:GoogleカレンダーやiCalendar形式情報を共有シェ
 アしましょう。近所のイベントから全国のイベントま
 で今日のイベント検索やスケジュールを決めるならち
 っくたっく
X-WR-CALNAME:ちっくたっく
X-WR-TIMEZONE:UTC
BEGIN:VEVENT
SUMMARY:【注】寄生獣 セイの格率 #19 冷血 / #20 罪と罰 / #2
 1 性と聖 / #22 静と醒 / #23 生と誓 / #24 寄生獣
DTSTART;VALUE=DATE-TIME:20260425T213000Z
DTEND;VALUE=DATE-TIME:20260426T003000Z
UID:128504502589
DESCRIPTION: / #19 冷血 / #20 罪と罰 / #21 性と聖 / #22 静と醒 
 / #23 生と誓 / #24 寄生獣 / https://abema.tv/channels/abema-anime-2/
 slots/Ah77n2X31m11Wo (無料TS1週間) ※リピート放送なし
LOCATION:Abemaアニメ2
END:VEVENT
END:VCALENDAR
