BEGIN:VCALENDAR
VERSION:2.0
PRODID:-//chikkutakku.com//RDFCal 1.0//EN
X-WR-CALDESC:GoogleカレンダーやiCalendar形式情報を共有シェ
 アしましょう。近所のイベントから全国のイベントま
 で今日のイベント検索やスケジュールを決めるならち
 っくたっく
X-WR-CALNAME:ちっくたっく
X-WR-TIMEZONE:UTC
BEGIN:VEVENT
SUMMARY:〜縁と憩いの場～ 『Cluricauns』
DTSTART;VALUE=DATE-TIME:20260421T130000Z
DTEND;VALUE=DATE-TIME:20260421T140000Z
UID:129214612069
DESCRIPTION:【イベント主催者】\n　酔ーグルト\n【イベン
 ト内容】\n　縁と憩いの場『Cluricauns（クルラホーン）
 』へようこそ。\n～あなたを我々の隠れ家へご招待いた
 します。～\nこの隠れ家では【縁】を大切にしています
 。\nさて今回はどんな人と、どんな会話が繰り広げられ
 るでしょうか？\nカクテル・コーヒーなどを片手にご自
 由にお過ごしください。\n【イベントジャンル】\n　そ
 の他交流会\, 店舗系イベント\, 初心者向けイベント\n【
 参加条件（モデル、人数制限など）】\n　最大人数10人\
 n途中入退室OK\nPCまたはPCVRのみ\nワールドの入り口に禁
 止事項のパネルがあるので読んでからご入店ください
 。\nその他詳細はグループのルールをご確認ください。
 \n【参加方法】\n　以下のグループに加入後グループイ
 ンスタンスにJoin\nグループ名：Cluricauns\nURL:https://vrc.grou
 p/CLCA.7732\n検索ワード:CLCA.7732\n【備考】\n　
LOCATION:
END:VEVENT
END:VCALENDAR
