BEGIN:VCALENDAR
VERSION:2.0
PRODID:-//chikkutakku.com//RDFCal 1.0//EN
X-WR-CALDESC:GoogleカレンダーやiCalendar形式情報を共有シェ
 アしましょう。近所のイベントから全国のイベントま
 で今日のイベント検索やスケジュールを決めるならち
 っくたっく
X-WR-CALNAME:ちっくたっく
X-WR-TIMEZONE:UTC
BEGIN:VEVENT
SUMMARY:名探偵プリキュア！ #13 「名探偵VS(バーサス)怪盗
 」
DTSTART;VALUE=DATE-TIME:20260425T233000Z
DTEND;VALUE=DATE-TIME:20260426T000000Z
UID:129334542215
DESCRIPTION:13 / 名探偵VS(バーサス)怪盗 / 
LOCATION:テレビ朝日
END:VEVENT
END:VCALENDAR
