BEGIN:VCALENDAR
VERSION:2.0
PRODID:-//chikkutakku.com//RDFCal 1.0//EN
X-WR-CALDESC:GoogleカレンダーやiCalendar形式情報を共有シェ
 アしましょう。近所のイベントから全国のイベントま
 で今日のイベント検索やスケジュールを決めるならち
 っくたっく
X-WR-CALNAME:ちっくたっく
X-WR-TIMEZONE:UTC
BEGIN:VEVENT
SUMMARY:★釣り百景 4/23(木)22:00-22:54 ＢＳ-ＴＢＳ(Ch.161)
DTSTART;VALUE=DATE-TIME:20260423T130000Z
DTEND;VALUE=DATE-TIME:20260423T135400Z
UID:129849657939
DESCRIPTION:★釣り百景\n4/23(木)22:00-22:54 ＢＳ-ＴＢＳ(Ch.161)
 \n▼和歌山県中紀インショア釣行　早春のサワラキャス
 ティングゲーム徹底攻略\n早春の和歌山・中紀エリアで
 インショアのサワラキャスティングゲームに挑む。ボ
 イルや天候の変化を読み解き、メーター級を攻略。戦
 略と技が光るインショアゲーム釣行。\nhttp://www.bs-tbs.co.
 jp/tsuri/
LOCATION:
END:VEVENT
END:VCALENDAR
