BEGIN:VCALENDAR
VERSION:2.0
PRODID:-//chikkutakku.com//RDFCal 1.0//EN
X-WR-CALDESC:GoogleカレンダーやiCalendar形式情報を共有シェ
 アしましょう。近所のイベントから全国のイベントま
 で今日のイベント検索やスケジュールを決めるならち
 っくたっく
X-WR-CALNAME:ちっくたっく
X-WR-TIMEZONE:UTC
BEGIN:VEVENT
SUMMARY:ビートルジュース ビートルジュース 4K UHD+ブルー
 レイ セット【4K ULTRA HD】
DTSTART;VALUE=DATE:20260421
DTEND;VALUE=DATE:20260422
UID:129994821320
DESCRIPTION:2026-04-22ビートルジュース ビートルジュース 4K
  UHD+ブルーレイ セット【4K ULTRA HD】マイケル・キートン
 /ウィノナ・ライダー/キャサリン・オハラ/ジャスティ
 ン・セロー/モニカ・ベルッチ/ジェナ・オルテガ/ダニ
 ー・エルフマン/ティム・バートン(株)ハピネット・メ
 ディアマーケティング
LOCATION:
END:VEVENT
END:VCALENDAR
