BEGIN:VCALENDAR
VERSION:2.0
PRODID:-//chikkutakku.com//RDFCal 1.0//EN
X-WR-CALDESC:GoogleカレンダーやiCalendar形式情報を共有シェ
 アしましょう。近所のイベントから全国のイベントま
 で今日のイベント検索やスケジュールを決めるならち
 っくたっく
X-WR-CALNAME:ちっくたっく
X-WR-TIMEZONE:UTC
BEGIN:VEVENT
SUMMARY:TUMO×Hypnotic Streams Kansai Tour Day 1 Kobe
DTSTART;VALUE=DATE:20260511
DTEND;VALUE=DATE:20260512
UID:130194102483
DESCRIPTION:open 19:00 / start 19:30\nLine up:\nHypnotic Streams\n・Fabio
  Rambelli from Italy / 笙 \n・Dirk Stromberg from Singapore / instrument
  builder\nTUMO\n・竹下勇馬 &#124\; Yuma Takeshita  / mechanized instr
 uments\n・石原雄治 &#124\; Yuji Ishihara / drums FX\n料金:\n自由
 料金制(pay as you want)+drink order\n\nダークさんとフォビオ
 さんのデュオの神戸と大阪のイベントを企画しました
 。\nこの日はそれぞれのユニットと最後に合奏予定です
 。\nよろしくお願い致します。\n\n【関連/参考ページ】\
 nhttps://spaceeauuu.themedia.jp/ （元町 space eauuu）
LOCATION:元町 space eauuu【近畿】
END:VEVENT
END:VCALENDAR
