BEGIN:VCALENDAR
VERSION:2.0
PRODID:-//chikkutakku.com//RDFCal 1.0//EN
X-WR-CALDESC:GoogleカレンダーやiCalendar形式情報を共有シェ
 アしましょう。近所のイベントから全国のイベントま
 で今日のイベント検索やスケジュールを決めるならち
 っくたっく
X-WR-CALNAME:ちっくたっく
X-WR-TIMEZONE:UTC
BEGIN:VEVENT
SUMMARY:(NET) New Glenn 7×2 • NG-4
DTSTART;VALUE=DATE:20260501
DTEND;VALUE=DATE:20260502
UID:130425295525
DESCRIPTION:A Blue Origin New Glenn rocket will launch on its fourth? flig
 ht\, carrying Firefly's Elytra Dawn OTV to orbit\, which will deploy the f
 ollowing CubeSats for NASA's Educational Launch of Nanosatellites (ELaNa)
  program: AEPEX and CANVAS (ELaNa 55)\, R5-S3 and R5-S5. Further CubeSats
  manifested on New Glenn are Odyssey\, IGOR\, SM 2\, SeaLion and UtProSat 
 1. New Glenn version 7×2 is equipped with seven BE-4 LNG/LOX engines on t
 he reusable GS1 first stage and two BE-3U hydroLOX engines on the GS2 seco
 nd stage. The first stage booster is designated GS1-7E03 named "No\, It's 
 Necessary".\n-\nThe Elytra Dawn orbital tug is equipped with a FANTM-RiDE 
 payload dispenser\, to first deploy commercial rideshare payloads in Sun-S
 ynchronous Orbit\, and then perform an on-orbit maneuver and stand ready t
 o deploy undisclosed U.S. government payloads on-demand for the NRO.\n-\nD
 elayed from mid-October\, November 2024\, May\, August and late 2025.
LOCATION:Space Launch Complex 36\, air force station\, Cape Canaveral\, FL
  32920\, USA
END:VEVENT
END:VCALENDAR
