BEGIN:VCALENDAR
VERSION:2.0
PRODID:-//chikkutakku.com//RDFCal 1.0//EN
X-WR-CALDESC:GoogleカレンダーやiCalendar形式情報を共有シェ
 アしましょう。近所のイベントから全国のイベントま
 で今日のイベント検索やスケジュールを決めるならち
 っくたっく
X-WR-CALNAME:ちっくたっく
X-WR-TIMEZONE:UTC
BEGIN:VEVENT
SUMMARY:イオングループ労働組合連合会
DTSTART;VALUE=DATE-TIME:20260422T010000Z
DTEND;VALUE=DATE-TIME:20260422T021000Z
UID:130557316178
DESCRIPTION:参加予定人数　23名\n小雨決行（荒天中止）\n
 参加対象　メンバーのみ
LOCATION:藤沢市　片瀬西浜　
END:VEVENT
END:VCALENDAR
