BEGIN:VCALENDAR
VERSION:2.0
PRODID:-//chikkutakku.com//RDFCal 1.0//EN
X-WR-CALDESC:GoogleカレンダーやiCalendar形式情報を共有シェ
 アしましょう。近所のイベントから全国のイベントま
 で今日のイベント検索やスケジュールを決めるならち
 っくたっく
X-WR-CALNAME:ちっくたっく
X-WR-TIMEZONE:UTC
BEGIN:VEVENT
SUMMARY:13:00ATC ポップカルチャー学園 
DTSTART;VALUE=DATE:20260424
DTEND;VALUE=DATE:20260425
UID:130876234562
DESCRIPTION:2026.04.25(土)開催時間13:00開催場所ATC海辺のステ
 ージ料金観覧無料3組のアイドルによるライブステージ
 をお届け！［出演］すーぱーぷーばぁー!!ミケネコガー
 ルズちぃたん★ぼんばーずOSK TEAM-O-
LOCATION:
END:VEVENT
END:VCALENDAR
