BEGIN:VCALENDAR
VERSION:2.0
PRODID:-//chikkutakku.com//RDFCal 1.0//EN
X-WR-CALDESC:GoogleカレンダーやiCalendar形式情報を共有シェ
 アしましょう。近所のイベントから全国のイベントま
 で今日のイベント検索やスケジュールを決めるならち
 っくたっく
X-WR-CALNAME:ちっくたっく
X-WR-TIMEZONE:UTC
BEGIN:VEVENT
SUMMARY:【Android 対応】こばじぃの稽古の会withVR劇団はな
 たば「からだを使おう！」
DTSTART;VALUE=DATE-TIME:20260428T130000Z
DTEND;VALUE=DATE-TIME:20260428T145900Z
UID:130916306371
DESCRIPTION:【イベント主催者】\n　はねの縹\n【イベント
 内容】\n　リアルでは舞台俳優として活動されている「
 VRのエンクラ」所属のこばじぃさんより、\nからだを使
 ったゲームなどを中心に、えんげきに興味のある人も
 ない人も楽しめる、自由なイベントを実施していただ
 きます！\nえんげきに興味のある人もない人も楽しめる
 自由なイベントです！\n【イベントジャンル】\n　初心
 者向けイベント\n【参加条件（モデル、人数制限など）
 】\n　体を動かすイベントの為、VRでのご参加をお願い
 します。\n著作権に抵触するおそれのあるアバター、ま
 た過度なパーティクルや大きな音声ギミックを含むア
 バター、でのご参加はご遠慮ください。\nまた、極端に
 重たいアバターの使用はご遠慮いただきますようお願
 いします。\n【参加方法】\n　VR劇団はなたばのグルー
 プ＋インスタンスにjoin願います\n【備考】\n　VR劇団は
 なたばの公式Xはこちら↓\nhttps://x.com/hanatabatroupe\n\nVR劇
 団はなたばのグループはこちら↓\nhttps://vrc.group/TRHANA.33
 73\n
LOCATION:
END:VEVENT
END:VCALENDAR
