BEGIN:VCALENDAR
VERSION:2.0
PRODID:-//chikkutakku.com//RDFCal 1.0//EN
X-WR-CALDESC:GoogleカレンダーやiCalendar形式情報を共有シェ
 アしましょう。近所のイベントから全国のイベントま
 で今日のイベント検索やスケジュールを決めるならち
 っくたっく
X-WR-CALNAME:ちっくたっく
X-WR-TIMEZONE:UTC
BEGIN:VEVENT
SUMMARY:【注】死亡遊戯で飯を食う。 #1 All You Need Is ---- / 
 #2 Chains of ---- / #3 In the Name of ---- / #4 Bad ---- / #5 ---- Is All 
 You Need / #6 Who's ----ing You / #7 Good ---- / #8 ---- It All / #9 Can't
  Help Falling In ---- / #10 Goin' ---- / #11 --v-
DTSTART;VALUE=DATE-TIME:20260422T230000Z
DTEND;VALUE=DATE-TIME:20260423T050000Z
UID:131855803584
DESCRIPTION: / #1 All You Need Is ---- / #2 Chains of ---- / #3 In the Nam
 e of ---- / #4 Bad ---- / #5 ---- Is All You Need / #6 Who's ----ing You /
  #7 Good ---- / #8 ---- It All / #9 Can't Help Falling In ---- / #10 Goin'
  ---- / #11 --v- / https://abema.tv/channels/late-night-anime/slots/EvABQF
 4Pi8Ctqm リピート放送は 20:00～ https://abema.tv/channels/late-nig
 ht-anime/slots/AkN7Zjxdmua6uV 、26:00～ https://abema.tv/channels/late-n
 ight-anime/slots/AkN7ZSaF74k5pb (無料TS2週間)
LOCATION:深夜アニメ
END:VEVENT
END:VCALENDAR
