BEGIN:VCALENDAR
VERSION:2.0
PRODID:-//chikkutakku.com//RDFCal 1.0//EN
X-WR-CALDESC:GoogleカレンダーやiCalendar形式情報を共有シェ
 アしましょう。近所のイベントから全国のイベントま
 で今日のイベント検索やスケジュールを決めるならち
 っくたっく
X-WR-CALNAME:ちっくたっく
X-WR-TIMEZONE:UTC
BEGIN:VEVENT
SUMMARY:CROSS COUNTRY | League Race #2 (Macassar)
DTSTART;VALUE=DATE-TIME:20260424T130000Z
DTEND;VALUE=DATE-TIME:20260424T150000Z
UID:132138239601
DESCRIPTION:All U7 to U14 Boys and Girls may register for this race. CLICK
  HERE to register. This form will close on Wednesday 22 April 2026.
LOCATION:Macassar Sports Field Riverside Park\, Macassar\, Cape Town\, 713
 4\, South Africa
END:VEVENT
END:VCALENDAR
