BEGIN:VCALENDAR
VERSION:2.0
PRODID:-//chikkutakku.com//RDFCal 1.0//EN
X-WR-CALDESC:GoogleカレンダーやiCalendar形式情報を共有シェ
 アしましょう。近所のイベントから全国のイベントま
 で今日のイベント検索やスケジュールを決めるならち
 っくたっく
X-WR-CALNAME:ちっくたっく
X-WR-TIMEZONE:UTC
BEGIN:VEVENT
SUMMARY:Hockey Boys: SC vs DF Akademie (Home)
DTSTART;VALUE=DATE-TIME:20260428T140000Z
DTEND;VALUE=DATE-TIME:20260428T180000Z
UID:133206979954
DESCRIPTION:Hockey Boys: SC vs DF Akademie (Home)
LOCATION:Somerset College\, Bredell Road (off the R44 between Stellenbosch
  and Somerset West\, Somerset West\, Cape Town\, South Africa
END:VEVENT
END:VCALENDAR
