BEGIN:VCALENDAR
VERSION:2.0
PRODID:-//chikkutakku.com//RDFCal 1.0//EN
X-WR-CALDESC:GoogleカレンダーやiCalendar形式情報を共有シェ
 アしましょう。近所のイベントから全国のイベントま
 で今日のイベント検索やスケジュールを決めるならち
 っくたっく
X-WR-CALNAME:ちっくたっく
X-WR-TIMEZONE:UTC
BEGIN:VEVENT
SUMMARY:myanon 3rd Anniversary Live『Liberate』
DTSTART;VALUE=DATE-TIME:20260421T130000Z
DTEND;VALUE=DATE-TIME:20260421T143000Z
UID:133391055145
DESCRIPTION:【イベント主催者】\n　myanon\n【イベント内容
 】\n　ＶＲアイドル みゃのん の3周年記念ライブ。\n普
 段とは違ったダークなコンセプトに挑戦します。\n\nMain
 Singer　myanon\nGuestSinger　Orca\nBackupDancer　akina-02/koua\nVJ Mano
 .Hamt\n【イベントジャンル】\n　音楽系イベント\n【参加
 条件（モデル、人数制限など）】\n　grouponlyでの開催に
 なるのでgroupに参加が必須です。\nまた、指定のアバタ
 ーがございますので、ワールド内ではご着用お願いい
 たします。\n【参加方法】\n　「みゃのんおふぃしゃる
 。」groupに参加の上、時間になったらgrouponlyインスタン
 スにJoin\n【備考】\n　
LOCATION:
END:VEVENT
END:VCALENDAR
