BEGIN:VCALENDAR
VERSION:2.0
PRODID:-//chikkutakku.com//RDFCal 1.0//EN
X-WR-CALDESC:GoogleカレンダーやiCalendar形式情報を共有シェ
 アしましょう。近所のイベントから全国のイベントま
 で今日のイベント検索やスケジュールを決めるならち
 っくたっく
X-WR-CALNAME:ちっくたっく
X-WR-TIMEZONE:UTC
BEGIN:VEVENT
SUMMARY:ルパンレンジャーVSパトレンジャー #35 良い人、
 悪い人、普通の人 / #36 爆弾を撃て
DTSTART;VALUE=DATE-TIME:20260426T010000Z
DTEND;VALUE=DATE-TIME:20260426T012400Z
UID:133487011980
DESCRIPTION: / #35 良い人、悪い人、普通の人 / #36 爆弾を撃
 て / 
LOCATION:東映特撮 YouTube Official
END:VEVENT
END:VCALENDAR
