BEGIN:VCALENDAR
VERSION:2.0
PRODID:-//chikkutakku.com//RDFCal 1.0//EN
X-WR-CALDESC:GoogleカレンダーやiCalendar形式情報を共有シェ
 アしましょう。近所のイベントから全国のイベントま
 で今日のイベント検索やスケジュールを決めるならち
 っくたっく
X-WR-CALNAME:ちっくたっく
X-WR-TIMEZONE:UTC
BEGIN:VEVENT
SUMMARY:開腹手術を学び直す 広汎子宮全摘術，傍大動脈
 リンパ節郭清
DTSTART;VALUE=DATE:20260520
DTEND;VALUE=DATE:20260521
UID:133563001060
DESCRIPTION:2026-05-21開腹手術を学び直す 広汎子宮全摘術，
 傍大動脈リンパ節郭清加藤 友康メジカルビュー社
LOCATION:
END:VEVENT
END:VCALENDAR
