BEGIN:VCALENDAR
VERSION:2.0
PRODID:-//chikkutakku.com//RDFCal 1.0//EN
X-WR-CALDESC:GoogleカレンダーやiCalendar形式情報を共有シェ
 アしましょう。近所のイベントから全国のイベントま
 で今日のイベント検索やスケジュールを決めるならち
 っくたっく
X-WR-CALNAME:ちっくたっく
X-WR-TIMEZONE:UTC
BEGIN:VEVENT
SUMMARY:グルキャンカフェ キャストと楽しむキャンプ体
 験　
DTSTART;VALUE=DATE-TIME:20260421T130000Z
DTEND;VALUE=DATE-TIME:20260421T140000Z
UID:133995185582
DESCRIPTION:【イベント主催者】\n　VirtualCampers\n【イベン
 ト内容】\n　自分たちで設営するのが楽しい、キャンプ
 感がある。\nキャストサポートがあって、キャンプ未経
 験でも安心。\n\n自分でテント出したり自由にレイアウ
 ト変えたりできるのが好評の #グルキャンカフェ 今月
 も開催します\n\n過去開催の様子はこちら！\nhttps://note.c
 om/mii_vcamp/n/n8c35b4e4b94d\n【イベントジャンル】\n　その他
 交流会\, 定期イベント\n【参加条件（モデル、人数制限
 など）】\n　１５名程度\n特に制限はしていませんが軽
 めのアバターにできる方は是非！\nイベント中に撮影し
 た写真をSNSへアップさせていただきますのでご了承く
 ださい。\nGroupのRulesをご一読お願いいたします。\n【参
 加方法】\n　Virtual Campersグループに参加\nhttps://vrc.group/V
 CAMP.5404\n当日は時間になったらGroupActivityからインスタ
 ンスへJoin\n【備考】\n　
LOCATION:
END:VEVENT
END:VCALENDAR
