BEGIN:VCALENDAR
VERSION:2.0
PRODID:-//chikkutakku.com//RDFCal 1.0//EN
X-WR-CALDESC:GoogleカレンダーやiCalendar形式情報を共有シェ
 アしましょう。近所のイベントから全国のイベントま
 で今日のイベント検索やスケジュールを決めるならち
 っくたっく
X-WR-CALNAME:ちっくたっく
X-WR-TIMEZONE:UTC
BEGIN:VEVENT
SUMMARY:カセットコンロ－数量：1 電気ポット1    寺西智
 美
DTSTART;VALUE=DATE-TIME:20260425T010000Z
DTEND;VALUE=DATE-TIME:20260425T060000Z
UID:134360782013
DESCRIPTION:使用日：4月25日【使用目的】　野草蒸しパン
 つくりと参加者の昼食時のお湯が必要なため
LOCATION:
END:VEVENT
END:VCALENDAR
