BEGIN:VCALENDAR
VERSION:2.0
PRODID:-//chikkutakku.com//RDFCal 1.0//EN
X-WR-CALDESC:GoogleカレンダーやiCalendar形式情報を共有シェ
 アしましょう。近所のイベントから全国のイベントま
 で今日のイベント検索やスケジュールを決めるならち
 っくたっく
X-WR-CALNAME:ちっくたっく
X-WR-TIMEZONE:UTC
BEGIN:VEVENT
SUMMARY:Crawfish Boil
DTSTART;VALUE=DATE-TIME:20260509T190000Z
DTEND;VALUE=DATE-TIME:20260509T220000Z
UID:135294123142
DESCRIPTION:Crawfish Boil
LOCATION:113
END:VEVENT
END:VCALENDAR
