BEGIN:VCALENDAR
VERSION:2.0
PRODID:-//chikkutakku.com//RDFCal 1.0//EN
X-WR-CALDESC:GoogleカレンダーやiCalendar形式情報を共有シェ
 アしましょう。近所のイベントから全国のイベントま
 で今日のイベント検索やスケジュールを決めるならち
 っくたっく
X-WR-CALNAME:ちっくたっく
X-WR-TIMEZONE:UTC
BEGIN:VEVENT
SUMMARY:【購入特典】『雨森潤奈は湿度が高い３【電子特
 典付き】』BOOK☆WALKER限定書き下ろしショートストーリ
 ー
DTSTART;VALUE=DATE:20260423
DTEND;VALUE=DATE:20260424
UID:135407373659
DESCRIPTION:2026-04-24【購入特典】『雨森潤奈は湿度が高い
 ３【電子特典付き】』BOOK☆WALKER限定書き下ろしショー
 トストーリー水城水城/潮崎　しのKADOKAWA
LOCATION:
END:VEVENT
END:VCALENDAR
