BEGIN:VCALENDAR
VERSION:2.0
PRODID:-//chikkutakku.com//RDFCal 1.0//EN
X-WR-CALDESC:GoogleカレンダーやiCalendar形式情報を共有シェ
 アしましょう。近所のイベントから全国のイベントま
 で今日のイベント検索やスケジュールを決めるならち
 っくたっく
X-WR-CALNAME:ちっくたっく
X-WR-TIMEZONE:UTC
BEGIN:VEVENT
SUMMARY:令和8年度 分野別問題解説集 1級建築施工管理技
 術検定試験 第二次検定
DTSTART;VALUE=DATE:20260520
DTEND;VALUE=DATE:20260521
UID:136466638244
DESCRIPTION:2026-05-21令和8年度 分野別問題解説集 1級建築施
 工管理技術検定試験 第二次検定森野 安信/榎本 弘之GET
 研究所
LOCATION:
END:VEVENT
END:VCALENDAR
