BEGIN:VCALENDAR
VERSION:2.0
PRODID:-//chikkutakku.com//RDFCal 1.0//EN
X-WR-CALDESC:GoogleカレンダーやiCalendar形式情報を共有シェ
 アしましょう。近所のイベントから全国のイベントま
 で今日のイベント検索やスケジュールを決めるならち
 っくたっく
X-WR-CALNAME:ちっくたっく
X-WR-TIMEZONE:UTC
BEGIN:VEVENT
SUMMARY:Squash fixture
DTSTART;VALUE=DATE-TIME:20260423T123000Z
DTEND;VALUE=DATE-TIME:20260423T150000Z
UID:136547491509
DESCRIPTION:NameSurnameGradeCharlieWatsonALAlexSymanskiGr9JoeStrachanGr9Ky
 leSturrockGr9MatthewCummingGr9JackSmithGr9ChloeMandyGr11AmaniBraafGr9Hayle
 yAshtonGr8
LOCATION:
END:VEVENT
END:VCALENDAR
