BEGIN:VCALENDAR
VERSION:2.0
PRODID:-//chikkutakku.com//RDFCal 1.0//EN
X-WR-CALDESC:GoogleカレンダーやiCalendar形式情報を共有シェ
 アしましょう。近所のイベントから全国のイベントま
 で今日のイベント検索やスケジュールを決めるならち
 っくたっく
X-WR-CALNAME:ちっくたっく
X-WR-TIMEZONE:UTC
BEGIN:VEVENT
SUMMARY:Presidential Capital Pty Ltd v Sunshine Coast Regional Council & C
 hief Executive\, Department of State Development\, Infrastructure and Plan
 ning - BD 559/25
DTSTART;VALUE=DATE-TIME:20260507T003000Z
DTEND;VALUE=DATE-TIME:20260507T030000Z
UID:136752515434
DESCRIPTION:Presidential Capital Pty Ltd v Sunshine Coast Regional Council
  & Chief Executive\, Department of State Development\, Infrastructure and 
 Planning - BD 559/25
LOCATION:
END:VEVENT
END:VCALENDAR
