BEGIN:VCALENDAR
VERSION:2.0
PRODID:-//chikkutakku.com//RDFCal 1.0//EN
X-WR-CALDESC:GoogleカレンダーやiCalendar形式情報を共有シェ
 アしましょう。近所のイベントから全国のイベントま
 で今日のイベント検索やスケジュールを決めるならち
 っくたっく
X-WR-CALNAME:ちっくたっく
X-WR-TIMEZONE:UTC
BEGIN:VEVENT
SUMMARY:[Free entry] GM MM - Portland\, ME
DTSTART;VALUE=DATE-TIME:20260502T160000Z
DTEND;VALUE=DATE-TIME:20260502T220000Z
UID:136816579416
DESCRIPTION:GOOD MORNING MAINE MELEE! LET'S DO SOME GAMINGThe second itera
 tion of a new tournament hosted in Portland\, Maine by Fair the jigglypuff
  player. This tournament will be hosted at my house. We have plenty of spa
 ce we can use (including a basement)\, so we could scale this up depending
  on interest. Doors Open: 12:00pmMelee Doubles: 1:00pmMelee Singles: 2:00
 pmCheck the Maine Melee Discord or the gm-mm channel on the New England 
 Melee Discord for the address and additional info!
LOCATION:Portland\, ME\, USA
END:VEVENT
END:VCALENDAR
