BEGIN:VCALENDAR
VERSION:2.0
PRODID:-//chikkutakku.com//RDFCal 1.0//EN
X-WR-CALDESC:GoogleカレンダーやiCalendar形式情報を共有シェ
 アしましょう。近所のイベントから全国のイベントま
 で今日のイベント検索やスケジュールを決めるならち
 っくたっく
X-WR-CALNAME:ちっくたっく
X-WR-TIMEZONE:UTC
BEGIN:VEVENT
SUMMARY:St. Louis Marie Grignion de Montfort\, Priest\; St. Peter Chanel\,
  Priest & Martyr
DTSTART;VALUE=DATE-TIME:20260428T050000Z
DTEND;VALUE=DATE-TIME:20260429T050000Z
UID:137105414987
DESCRIPTION:St. Louis Marie Grignion de Montfort\, Priest\; St. Peter Chan
 el\, Priest & Martyr
LOCATION:
END:VEVENT
END:VCALENDAR
