BEGIN:VCALENDAR
VERSION:2.0
PRODID:-//chikkutakku.com//RDFCal 1.0//EN
X-WR-CALDESC:GoogleカレンダーやiCalendar形式情報を共有シェ
 アしましょう。近所のイベントから全国のイベントま
 で今日のイベント検索やスケジュールを決めるならち
 っくたっく
X-WR-CALNAME:ちっくたっく
X-WR-TIMEZONE:UTC
BEGIN:VEVENT
SUMMARY:VRC東方TRPG幻ナラ集会
DTSTART;VALUE=DATE-TIME:20260422T120000Z
DTEND;VALUE=DATE-TIME:20260422T130000Z
UID:137166694773
DESCRIPTION:【イベント主催者】\n　TiZ-\n【イベント内容】
 \n　東方Project二次創作TRPG『幻想ナラトグラフ』を遊ぶ
 、または遊びたい方と交流を深める雑談集会です。\n東
 方Projectの話題、TRPGの話題だけでなく、様々な話題で交
 流出来ます。\n集会なのでTRPGセッションを行う事は出
 来ませんが、\nセッションを実施出来るDiscordへの導線
 を用意しております。\n東方ProjectのTRPGが気になるとい
 う方は是非お越しください！\n【イベントジャンル】\n
 　その他交流会\, 定期イベント\n【参加条件（モデル、
 人数制限など）】\n　東方Projectに興味がある人、TRPGに
 興味がある人、そうでなくても歓迎！\n【参加方法】\n
 　時間になったらインスタンスをGroup＋で建てます。\n
 グループインスタンス、またはインスタンス内のフレ
 ンドにJoinで参加できます。\nhttps://vrc.group/VTTGS.5748\n【
 備考】\n　https://x.com/NarratographVRC/status/2026854737128341913
LOCATION:
END:VEVENT
END:VCALENDAR
