BEGIN:VCALENDAR
VERSION:2.0
PRODID:-//chikkutakku.com//RDFCal 1.0//EN
X-WR-CALDESC:GoogleカレンダーやiCalendar形式情報を共有シェ
 アしましょう。近所のイベントから全国のイベントま
 で今日のイベント検索やスケジュールを決めるならち
 っくたっく
X-WR-CALNAME:ちっくたっく
X-WR-TIMEZONE:UTC
BEGIN:VEVENT
SUMMARY:【1対1接客】お兄さんと話せるイベ
DTSTART;VALUE=DATE-TIME:20260423T125900Z
DTEND;VALUE=DATE-TIME:20260423T135000Z
UID:137282789284
DESCRIPTION:【イベント主催者】\n　新月 ひびき\n【イベン
 ト内容】\n　「お兄さんアバター*と普通に話してえな
 」\nという主催の趣味でつくられた1対1接客イベント（
 ２ローテ制）。\n\nロールプレイなし、推奨アバターな
 し、老若男女歓迎。\nどなたでもおいでください。お兄
 さんがいます。お茶は出ません。\n\n*身長150cm以上の男
 性アバター\n\n【イベントジャンル】\n　その他交流会\n
 【参加条件（モデル、人数制限など）】\n　・日本語音
 声で会話できること\n　・権利的に問題ない、また極端
 に高負荷なアバターでないこと\n　　　DLサイズ：50MB以
 下推奨\n\n【参加方法】\n　・下記グループに参加後、
 開催時間にグループインスタンスへJoin\n　　開催日は
 イベントカレンダー、グループ通知、Twitterにて告知し
 ます\n　　　https://vrc.group/ONIIBE.7560\n\n【備考】\n　イベ
 ントポスター\nhttps://x.com/ONI_IBE/status/2031347294524813750?s=20\
 n
LOCATION:
END:VEVENT
END:VCALENDAR
