BEGIN:VCALENDAR
VERSION:2.0
PRODID:-//chikkutakku.com//RDFCal 1.0//EN
X-WR-CALDESC:GoogleカレンダーやiCalendar形式情報を共有シェ
 アしましょう。近所のイベントから全国のイベントま
 で今日のイベント検索やスケジュールを決めるならち
 っくたっく
X-WR-CALNAME:ちっくたっく
X-WR-TIMEZONE:UTC
BEGIN:VEVENT
SUMMARY:知りたい！ 専門学校 文化・教養分野
DTSTART;VALUE=DATE:20260426
DTEND;VALUE=DATE:20260427
UID:137310806806
DESCRIPTION:2026-04-27知りたい！ 専門学校 文化・教養分野
 木村 由香里ぺりかん社
LOCATION:
END:VEVENT
END:VCALENDAR
