BEGIN:VCALENDAR
VERSION:2.0
PRODID:-//chikkutakku.com//RDFCal 1.0//EN
X-WR-CALDESC:GoogleカレンダーやiCalendar形式情報を共有シェ
 アしましょう。近所のイベントから全国のイベントま
 で今日のイベント検索やスケジュールを決めるならち
 っくたっく
X-WR-CALNAME:ちっくたっく
X-WR-TIMEZONE:UTC
BEGIN:VEVENT
SUMMARY:R106 - 印尼台灣佛教社團
DTSTART;VALUE=DATE-TIME:20260426T010000Z
DTEND;VALUE=DATE-TIME:20260426T040000Z
UID:137705009086
DESCRIPTION:R106 - 印尼台灣佛教社團
LOCATION:
END:VEVENT
END:VCALENDAR
