BEGIN:VCALENDAR
VERSION:2.0
PRODID:-//chikkutakku.com//RDFCal 1.0//EN
X-WR-CALDESC:GoogleカレンダーやiCalendar形式情報を共有シェ
 アしましょう。近所のイベントから全国のイベントま
 で今日のイベント検索やスケジュールを決めるならち
 っくたっく
X-WR-CALNAME:ちっくたっく
X-WR-TIMEZONE:UTC
BEGIN:VEVENT
SUMMARY:🎉全新課程【新竹】4/23 (四) 「2026 數位領航：打
 造AI行銷團隊實戰營」
DTSTART;VALUE=DATE-TIME:20260422T160000Z
DTEND;VALUE=DATE-TIME:20260423T155959Z
UID:137766090190
DESCRIPTION:🎉全新課程【新竹】4/23 (四) 「2026 數位領航：
 打造AI行銷團隊實戰營」
LOCATION:
END:VEVENT
END:VCALENDAR
