BEGIN:VCALENDAR
VERSION:2.0
PRODID:-//chikkutakku.com//RDFCal 1.0//EN
X-WR-CALDESC:GoogleカレンダーやiCalendar形式情報を共有シェ
 アしましょう。近所のイベントから全国のイベントま
 で今日のイベント検索やスケジュールを決めるならち
 っくたっく
X-WR-CALNAME:ちっくたっく
X-WR-TIMEZONE:UTC
BEGIN:VEVENT
SUMMARY:すすちゃんVRライブ！フルトラで歌を歌います♪
DTSTART;VALUE=DATE-TIME:20260420T113000Z
DTEND;VALUE=DATE-TIME:20260420T120000Z
UID:137912835756
DESCRIPTION:【イベント主催者】\n　すすちゃん\n【イベン
 ト内容】\n　当日はグループパブリックにて開催します
 ので、\nすすちゃんグループの参加をお願いいたします
 。\n→https://vrc.group/SUSULV.2992\nすすちゃんとはどんな人
 ？\nX（旧Twitter）→https://x.com/susuchan_vrc02\nYouTube→https://w
 ww.youtube.com/@susuchan_jp\n\n音楽活動を始めたばかりのすす
 ちゃんが新宿ライブストリートで歌を歌います。\n20分
 程度のライブなのでふらりと遊びに来るのにおすすめ
 のイベントです！\nまだVRで音楽ライブを見たことがな
 い方もぜひ気軽に参加してください。\n\nライブ自体は2
 0:30から開始ですが、20:10くらいにはインスタンスを開
 あけてるので、\nライブの楽しみ方がわからないけど見
 てみたい！\nという方も早めに来てひとこと聞いてくだ
 されば\nVRライブを見るときの音量設定やしておいた方
 がいい設定などもお伝えいたします。\n\nまた、初めて
 こんな風に宣伝してライブをするので、\n念のためシー
 ルドレベル最大にしてからの入室を推奨しておきます
 ！\nそこら辺もわからなかったら早めに来ていただいて
 、その場で気軽に聞いてね！\n【イベントジャンル】\n
 　音楽系イベント\n【参加条件（モデル、人数制限など
 ）】\n　他の方の迷惑になる行為をしない方なら誰でも
 どうぞ。\n【参加方法】\n　グループパブリックにて開
 催\n→https://vrc.group/SUSULV.2992\n20:10以降入室可能！ライブ
 は20:30からの20分程度です。\n【備考】\n　20:10以降入室
 可能！ライブは20:30開始！\n途中参加途中退室、自由な
 ので少し見たいとか\n待ち合わせまでの時間つぶしなど
 もOKだよー！\nライブ後はみんなで集合写真撮ります。
LOCATION:
END:VEVENT
END:VCALENDAR
