BEGIN:VCALENDAR
VERSION:2.0
PRODID:-//chikkutakku.com//RDFCal 1.0//EN
X-WR-CALDESC:GoogleカレンダーやiCalendar形式情報を共有シェ
 アしましょう。近所のイベントから全国のイベントま
 で今日のイベント検索やスケジュールを決めるならち
 っくたっく
X-WR-CALNAME:ちっくたっく
X-WR-TIMEZONE:UTC
BEGIN:VEVENT
SUMMARY:中高生からのPythonとラズパイPicoではじめる電子
 工作
DTSTART;VALUE=DATE:20260429
DTEND;VALUE=DATE:20260430
UID:138087543642
DESCRIPTION:2026-04中高生からのPythonとラズパイPicoではじめ
 る電子工作北村俊樹カットシステム
LOCATION:
END:VEVENT
END:VCALENDAR
