BEGIN:VCALENDAR
VERSION:2.0
PRODID:-//chikkutakku.com//RDFCal 1.0//EN
X-WR-CALDESC:GoogleカレンダーやiCalendar形式情報を共有シェ
 アしましょう。近所のイベントから全国のイベントま
 で今日のイベント検索やスケジュールを決めるならち
 っくたっく
X-WR-CALNAME:ちっくたっく
X-WR-TIMEZONE:UTC
BEGIN:VEVENT
SUMMARY:東地区 「研修会／活動報告会／懇親会」
DTSTART;VALUE=DATE-TIME:20260514T083000Z
DTEND;VALUE=DATE-TIME:20260514T120000Z
UID:138170392269
DESCRIPTION:
LOCATION:八王子エルシイ @ 八王子市八日町6-7
END:VEVENT
END:VCALENDAR
