BEGIN:VCALENDAR
VERSION:2.0
PRODID:-//chikkutakku.com//RDFCal 1.0//EN
X-WR-CALDESC:GoogleカレンダーやiCalendar形式情報を共有シェ
 アしましょう。近所のイベントから全国のイベントま
 で今日のイベント検索やスケジュールを決めるならち
 っくたっく
X-WR-CALNAME:ちっくたっく
X-WR-TIMEZONE:UTC
BEGIN:VEVENT
SUMMARY:ヤングマガジン 2026年21号 [2026年4月20日発売]
DTSTART;VALUE=DATE:20260419
DTEND;VALUE=DATE:20260420
UID:138661049230
DESCRIPTION:2026-04-20ヤングマガジン 2026年21号 [2026年4月20日
 発売]五褒美/にゃんにゃんファクトリー/津覇圭一/上月
 亮/草下シンヤ/神里純平/雁木万里/蓮尾トウト/仲里はる
 な/大瀬戸陸/猫子/武六甲理衣/じゃいあん/武田スーパー
 /ずり騎士/ｉｐｐａｔｕ/港發/河本ほむら/なだいにし/
 大橋ユウ/西村隆/肉丸/しげの秀一/四葉夕卜/小川亮/ず
 いの/系山冏/里見Ｕ/桜場コハル/南勝久/松本光司/萩原
 天晴/上原求/新井和也/福本伸行講談社
LOCATION:
END:VEVENT
END:VCALENDAR
