BEGIN:VCALENDAR
VERSION:2.0
PRODID:-//chikkutakku.com//RDFCal 1.0//EN
X-WR-CALDESC:GoogleカレンダーやiCalendar形式情報を共有シェ
 アしましょう。近所のイベントから全国のイベントま
 で今日のイベント検索やスケジュールを決めるならち
 っくたっく
X-WR-CALNAME:ちっくたっく
X-WR-TIMEZONE:UTC
BEGIN:VEVENT
SUMMARY:くまアバターカフェ【べあほわ！】
DTSTART;VALUE=DATE-TIME:20260510T130000Z
DTEND;VALUE=DATE-TIME:20260510T143000Z
UID:138905545810
DESCRIPTION:【イベント主催者】\n　あるちゃま\n【イベン
 ト内容】\n　☆概要☆\n・1:1-2:4のRPイベント\n・高校の
 文化祭でメイドカフェ(コンカフェ)\n・第1.3  月曜日・
 日曜日\n・22:00-23:30(アフターあり)\n\n今回はプレオープ
 ンです！\n【イベントジャンル】\n　店舗系イベント\n
 【参加条件（モデル、人数制限など）】\n　・アバター
 容量40MB以下\n・武器エフェクトなどの音の出るものや
 パーティクルの非表示\n・キャストへのお触りは厳禁\n
 【参加方法】\n　https://vrchat.com/home/user/usr_2c6560eb-1a63-4d41
 -ad61-b30fd42fcbbe\nこちらのアカウントにフレンド申請後、
 21：55に一回インバイトリクエストを送ってください\n
 【備考】\n　
LOCATION:
END:VEVENT
END:VCALENDAR
