BEGIN:VCALENDAR
VERSION:2.0
PRODID:-//chikkutakku.com//RDFCal 1.0//EN
X-WR-CALDESC:GoogleカレンダーやiCalendar形式情報を共有シェ
 アしましょう。近所のイベントから全国のイベントま
 で今日のイベント検索やスケジュールを決めるならち
 っくたっく
X-WR-CALNAME:ちっくたっく
X-WR-TIMEZONE:UTC
BEGIN:VEVENT
SUMMARY:[Live]SITUASION The immortal envy club member's only live 「GAL's
  Lab」PRODUCED BY KANON KAZAMA
DTSTART;VALUE=DATE:20260502
DTEND;VALUE=DATE:20260503
UID:139064628132
DESCRIPTION:場所　　: SHIBUYA CYCLONE\n日程　　: 2026年5月3日(
 日)\n時間　　: op11:40 / st12:00\n料金　　: ¥2\,500\nチケッ
 ト: \nhttps://fanicon.net/tours/5514/4670/16749
LOCATION:SHIBUYA CYCLONE\, 日本、〒150-0042 東京都渋谷区宇田
 川町１３−１６ コクサイビル B2
END:VEVENT
END:VCALENDAR
