BEGIN:VCALENDAR
VERSION:2.0
PRODID:-//chikkutakku.com//RDFCal 1.0//EN
X-WR-CALDESC:GoogleカレンダーやiCalendar形式情報を共有シェ
 アしましょう。近所のイベントから全国のイベントま
 で今日のイベント検索やスケジュールを決めるならち
 っくたっく
X-WR-CALNAME:ちっくたっく
X-WR-TIMEZONE:UTC
BEGIN:VEVENT
SUMMARY:導師會報資料填寫截止
DTSTART;VALUE=DATE-TIME:20260518T060000Z
DTEND;VALUE=DATE-TIME:20260518T061500Z
UID:139120914791
DESCRIPTION:5/21導師會報資料填寫截止填寫網址：https://reurl
 .cc/aM6nYD\n\n通过 Google Meet 加入：https://meet.google.com/jpv-dedt
 -vgu\n或者拨打以下号码：(US) +1 551-333-3560 PIN 码： 428214787
 #\n\n如需详细了解 Google Meet，请访问：https://support.google.c
 om/a/users/answer/9282720
LOCATION:
END:VEVENT
END:VCALENDAR
