BEGIN:VCALENDAR
VERSION:2.0
PRODID:-//chikkutakku.com//RDFCal 1.0//EN
X-WR-CALDESC:GoogleカレンダーやiCalendar形式情報を共有シェ
 アしましょう。近所のイベントから全国のイベントま
 で今日のイベント検索やスケジュールを決めるならち
 っくたっく
X-WR-CALNAME:ちっくたっく
X-WR-TIMEZONE:UTC
BEGIN:VEVENT
SUMMARY:暨大活泉唱詩社親子活泉盃活動
DTSTART;VALUE=DATE:20260424
DTEND;VALUE=DATE:20260425
UID:139202008027
DESCRIPTION:暨大活泉唱詩社親子活泉盃活動
LOCATION:
END:VEVENT
END:VCALENDAR
