BEGIN:VCALENDAR
VERSION:2.0
PRODID:-//chikkutakku.com//RDFCal 1.0//EN
X-WR-CALDESC:GoogleカレンダーやiCalendar形式情報を共有シェ
 アしましょう。近所のイベントから全国のイベントま
 で今日のイベント検索やスケジュールを決めるならち
 っくたっく
X-WR-CALNAME:ちっくたっく
X-WR-TIMEZONE:UTC
BEGIN:VEVENT
SUMMARY:(14時)吉笑昼席 〜立川吉笑勉強会〜
DTSTART;VALUE=DATE:20260426
DTEND;VALUE=DATE:20260427
UID:141800515584
DESCRIPTION:出演：立川吉笑(２席)、三遊亭萬次郎(１席)、
 立川のの一(１席)\n開場：​13時半　開演：14時　\n料金
 ：予約​2000円　当日2300円　\nご予約はらくごカフェま
 で　​rakugocafe@hotm​​ail.co.jp　\n電話03-​6268-9818（平日
 12時​～​18時まで）
LOCATION:
END:VEVENT
END:VCALENDAR
