BEGIN:VCALENDAR
VERSION:2.0
PRODID:-//chikkutakku.com//RDFCal 1.0//EN
X-WR-CALDESC:GoogleカレンダーやiCalendar形式情報を共有シェ
 アしましょう。近所のイベントから全国のイベントま
 で今日のイベント検索やスケジュールを決めるならち
 っくたっく
X-WR-CALNAME:ちっくたっく
X-WR-TIMEZONE:UTC
BEGIN:VEVENT
SUMMARY:マーケティング検定完全対応 マーケティング用
 語一問一答
DTSTART;VALUE=DATE:20260517
DTEND;VALUE=DATE:20260518
UID:141971782856
DESCRIPTION:2026-05-18マーケティング検定完全対応 マーケテ
 ィング用語一問一答日本マーケティング協会日本マー
 ケティング協会
LOCATION:
END:VEVENT
END:VCALENDAR
