BEGIN:VCALENDAR
VERSION:2.0
PRODID:-//chikkutakku.com//RDFCal 1.0//EN
X-WR-CALDESC:GoogleカレンダーやiCalendar形式情報を共有シェ
 アしましょう。近所のイベントから全国のイベントま
 で今日のイベント検索やスケジュールを決めるならち
 っくたっく
X-WR-CALNAME:ちっくたっく
X-WR-TIMEZONE:UTC
BEGIN:VEVENT
SUMMARY:19！「Co」教室変更【松田】　発声滑舌お助け隊1F
DTSTART;VALUE=DATE-TIME:20260422T100000Z
DTEND;VALUE=DATE-TIME:20260422T120000Z
UID:142452138428
DESCRIPTION:19！「Co」教室変更【松田】　発声滑舌お助け
 隊1F
LOCATION:
END:VEVENT
END:VCALENDAR
